BEGIN:VCALENDAR
VERSION:2.0
PRODID:-//ChamberMaster//Event Calendar 2.0//EN
METHOD:PUBLISH
X-PUBLISHED-TTL:P1H
REFRESH-INTERVAL:P1H
NAME:YPN Event Calendar
X-WR-CALNAME:YPN Event Calendar
CALSCALE:GREGORIAN
BEGIN:VTIMEZONE
TZID:America/Los_Angeles
BEGIN:DAYLIGHT
RRULE:FREQ=YEARLY;BYMONTH=3;BYDAY=+2SU
DTSTART:20070101T000000
TZOFFSETFROM:-0800
TZOFFSETTO:-0700
TZNAME:Pacific Daylight Time
END:DAYLIGHT
BEGIN:STANDARD
RRULE:FREQ=YEARLY;BYMONTH=11;BYDAY=+1SU
DTSTART:20070101T000000
TZOFFSETFROM:-0700
TZOFFSETTO:-0800
TZNAME:Pacific Standard Time
END:STANDARD
END:VTIMEZONE
BEGIN:VEVENT
DTSTART;VALUE=DATE:20260609
DTEND;VALUE=DATE:20260610
TRANSP:TRANSPARENT
X-MICROSOFT-CDO-ALLDAYEVENT:TRUE
SUMMARY:YPN Sip of Summer
DESCRIPTION: \n https://eugenerealtors.growthzoneapp.com/events/Details/ypn-sip-of-summer-1633325?sourceTypeId=Hub
X-ALT-DESC;FMTTYPE=text/html: <br> https://eugenerealtors.growthzoneapp.com/events/Details/ypn-sip-of-summer-1633325?sourceTypeId=Hub
LOCATION:
UID:e.2871.1383348
SEQUENCE:3
DTSTAMP:20260421T102457Z
URL:https://eugenerealtors.growthzoneapp.com/events/Details/ypn-sip-of-summer-1633325?sourceTypeId=Hub
END:VEVENT
BEGIN:VEVENT
DTSTART;VALUE=DATE:20260922
DTEND;VALUE=DATE:20260923
TRANSP:TRANSPARENT
X-MICROSOFT-CDO-ALLDAYEVENT:TRUE
SUMMARY:YPN Oktoberfest
DESCRIPTION: \n https://eugenerealtors.growthzoneapp.com/events/Details/ypn-oktoberfest-1633326?sourceTypeId=Hub
X-ALT-DESC;FMTTYPE=text/html: <br> https://eugenerealtors.growthzoneapp.com/events/Details/ypn-oktoberfest-1633326?sourceTypeId=Hub
LOCATION:
UID:e.2871.1383349
SEQUENCE:3
DTSTAMP:20260421T102457Z
URL:https://eugenerealtors.growthzoneapp.com/events/Details/ypn-oktoberfest-1633326?sourceTypeId=Hub
END:VEVENT
BEGIN:VEVENT
DTSTART;VALUE=DATE:20261006
DTEND;VALUE=DATE:20261007
TRANSP:TRANSPARENT
X-MICROSOFT-CDO-ALLDAYEVENT:TRUE
SUMMARY:WHY-PN?
DESCRIPTION:Learn about Eugene REALTORS® Young Professionals Network! \n https://eugenerealtors.growthzoneapp.com/events/Details/why-pn-1633327?sourceTypeId=Hub
X-ALT-DESC;FMTTYPE=text/html:Learn about Eugene REALTORS® Young Professionals Network! <br> https://eugenerealtors.growthzoneapp.com/events/Details/why-pn-1633327?sourceTypeId=Hub
LOCATION:
UID:e.2871.1383350
SEQUENCE:3
DTSTAMP:20260421T102457Z
URL:https://eugenerealtors.growthzoneapp.com/events/Details/why-pn-1633327?sourceTypeId=Hub
END:VEVENT
BEGIN:VEVENT
DTSTART;VALUE=DATE:20261027
DTEND;VALUE=DATE:20261028
TRANSP:TRANSPARENT
X-MICROSOFT-CDO-ALLDAYEVENT:TRUE
SUMMARY:YPN Pet Parade
DESCRIPTION: \n https://eugenerealtors.growthzoneapp.com/events/Details/ypn-pet-parade-1633329?sourceTypeId=Hub
X-ALT-DESC;FMTTYPE=text/html: <br> https://eugenerealtors.growthzoneapp.com/events/Details/ypn-pet-parade-1633329?sourceTypeId=Hub
LOCATION:
UID:e.2871.1383352
SEQUENCE:3
DTSTAMP:20260421T102457Z
URL:https://eugenerealtors.growthzoneapp.com/events/Details/ypn-pet-parade-1633329?sourceTypeId=Hub
END:VEVENT
BEGIN:VEVENT
DTSTART;VALUE=DATE:20261117
DTEND;VALUE=DATE:20261118
TRANSP:TRANSPARENT
X-MICROSOFT-CDO-ALLDAYEVENT:TRUE
SUMMARY:YPN Business Education Class
DESCRIPTION: \n https://eugenerealtors.growthzoneapp.com/events/Details/ypn-business-education-class-1633330?sourceTypeId=Hub
X-ALT-DESC;FMTTYPE=text/html: <br> https://eugenerealtors.growthzoneapp.com/events/Details/ypn-business-education-class-1633330?sourceTypeId=Hub
LOCATION:
UID:e.2871.1383353
SEQUENCE:3
DTSTAMP:20260421T102457Z
URL:https://eugenerealtors.growthzoneapp.com/events/Details/ypn-business-education-class-1633330?sourceTypeId=Hub
END:VEVENT
BEGIN:VEVENT
DTSTART;VALUE=DATE:20260826
DTEND;VALUE=DATE:20260828
TRANSP:TRANSPARENT
X-MICROSOFT-CDO-ALLDAYEVENT:TRUE
SUMMARY:YPN Leadership Training
DESCRIPTION: \n https://eugenerealtors.growthzoneapp.com/events/Details/ypn-leadership-training-1661368?sourceTypeId=Hub
X-ALT-DESC;FMTTYPE=text/html: <br> https://eugenerealtors.growthzoneapp.com/events/Details/ypn-leadership-training-1661368?sourceTypeId=Hub
LOCATION:Chicago
UID:e.2871.1405711
SEQUENCE:3
DTSTAMP:20260421T102457Z
URL:https://eugenerealtors.growthzoneapp.com/events/Details/ypn-leadership-training-1661368?sourceTypeId=Hub
END:VEVENT
BEGIN:VEVENT
DTSTART;TZID=America/Los_Angeles:20260519T120000
DTEND;TZID=America/Los_Angeles:20260519T140000
X-MICROSOFT-CDO-ALLDAYEVENT:FALSE
SUMMARY:YPN Let's Taco-bout Appraisals
DESCRIPTION:Join a panel of five appraisers and enjoy some tacos! \n https://eugenerealtors.growthzoneapp.com/events/Details/ypn-let-s-taco-bout-appraisals-1705506?sourceTypeId=Hub
X-ALT-DESC;FMTTYPE=text/html:<!DOCTYPE html><html><head><title></title></head><body aria-disabled="false"><p>Join a panel of five appraisers and enjoy some tacos!</p></body></html> <br> https://eugenerealtors.growthzoneapp.com/events/Details/ypn-let-s-taco-bout-appraisals-1705506?sourceTypeId=Hub
LOCATION:2139 Centennial Plaza Eugene OR 97401
UID:e.2871.1440506
SEQUENCE:3
DTSTAMP:20260421T102457Z
URL:https://eugenerealtors.growthzoneapp.com/events/Details/ypn-let-s-taco-bout-appraisals-1705506?sourceTypeId=Hub
END:VEVENT
END:VCALENDAR
